BEGIN:VCALENDAR
VERSION:2.0
X-WR-TIMEZONE:Europe/Paris
CALSCALE:GREGORIAN
PRODID:-//SPIP/Plugin Agenda//NONSGML v1.0//FR


X-WR-CALNAME;VALUE=TEXT:Collège Louis Guilloux - Plémet -- Agenda
X-WR-RELCALID:https://www.college-louisguilloux-plemet.ac-rennes.fr


BEGIN:VEVENT
SUMMARY:Exposition des monotypes Marie BALDET
UID:evenement2 @ https://www.college-louisguilloux-plemet.ac-rennes.fr
DTSTAMP:20241203T142733Z
DTSTART:20241211T083000Z
DTEND:20250114T170000Z
CREATED:20241203T142733Z
LAST-MODIFIED:20241203T152912Z 
LOCATION:Galerie d'Art du Collège Louis Guilloux, 24 rue de Bodiffe 22210 Plémet 
DESCRIPTION:Exposition de monotypes du roman graphique intitulé l'heure de la métamorphose par Marie BALDET.
CATEGORIES:Exposition des monotypes Marie BALDET
URL:https://www.college-louisguilloux-plemet.ac-rennes.fr/spip.php?article294&id_evenement=2
SEQUENCE:0

STATUS:CONFIRMED
END:VEVENT
END:VCALENDAR
